BEGIN:VCALENDAR
VERSION:2.0
METHOD:PUBLISH
PRODID:-//Agenda.ad//NONSGML v1.0//EN
BEGIN:VEVENT
CLASS:PUBLIC
UID:f3ee2cc0b480df3741659f702b2b279d@agenda.ad
DTSTAMP:20260421T141447Z
DTSTART:20260430T220000Z
DTEND:20260502T220000Z
SUMMARY:Road Race &amp; Baggers Arinsal | 1a edici&oacute;
DESCRIPTION:Arinsal acull la primera edició de la Road Race &
  Baggers Arinsal, un nou esdeveniment vinculat al món
  del motociclisme que neix amb la voluntat de dinamitzar el 
 poble en temporada baixa i consolidar-lo com a destinaci&oac
 ute; esportiva.\n\nMés informació\nhttps://www.agenda.ad/a
 ctivitat/la-massana/cursos-i-tallers/road-race-and-baggers-a
 rinsal-|-1a-edicio\n
LOCATION:Poble d'Arinsal
SEQUENCE:0
TRANSP:OPAQUE
X-ALT-DESC;FMTTYPE=text/html:<!DOCTYPE HTML PUBLIC "-//W3C//DTD HTML 3.2//EN"><HTML><HEAD
 ><TITLE></TITLE></HEAD><BODY><FONT FACE="Arial" SIZE=2><span
 >Arinsal acull la primera edici&oacute; de la Road Race &amp
 ; Baggers Arinsal, un nou esdeveniment vinculat al m&oacute;
 n del motociclisme que neix amb la voluntat de dinamitzar el
  poble en temporada baixa i consolidar-lo com a destinaci&oa
 cute; esportiva.</span><br/><br/><b>Més informació</b><br/
 ><a href="https://www.agenda.ad/activitat/la-massana/cursos-
 i-tallers/road-race-and-baggers-arinsal-|-1a-edicio">https:/
 /www.agenda.ad/activitat/la-massana/cursos-i-tallers/road-ra
 ce-and-baggers-arinsal-|-1a-edicio</a><br/></FONT></BODY></H
 TML>
END:VEVENT
END:VCALENDAR